BEGIN:VCALENDAR
VERSION:2.0
PRODID:-//Welcome to Pakistan Club Bahrain - ECPv5.14.1//NONSGML v1.0//EN
CALSCALE:GREGORIAN
METHOD:PUBLISH
X-WR-CALNAME:Welcome to Pakistan Club Bahrain
X-ORIGINAL-URL:https://pakistanclubbh.com
X-WR-CALDESC:Events for Welcome to Pakistan Club Bahrain
REFRESH-INTERVAL;VALUE=DURATION:PT1H
X-Robots-Tag:noindex
X-PUBLISHED-TTL:PT1H
BEGIN:VTIMEZONE
TZID:UTC
BEGIN:STANDARD
TZOFFSETFROM:+0000
TZOFFSETTO:+0000
TZNAME:UTC
DTSTART:20210101T000000
END:STANDARD
END:VTIMEZONE
BEGIN:VEVENT
DTSTART;TZID=UTC:20211231T080000
DTEND;TZID=UTC:20220101T170000
DTSTAMP:20260419T142651
CREATED:20211221T083121Z
LAST-MODIFIED:20211221T083121Z
UID:57194-1640937600-1641056400@pakistanclubbh.com
SUMMARY:New Year 2022
DESCRIPTION:
URL:https://pakistanclubbh.com/event/new-year-2022/
LOCATION:Pakistan Club Bahrain\, Manama\, Bahrain
ATTACH;FMTTYPE=image/jpeg:https://pakistanclubbh.com/wp-content/uploads/2021/12/new-year-wishes.jpg
ORGANIZER;CN="Pakistan%20Club":MAILTO:email@domain.com
END:VEVENT
BEGIN:VEVENT
DTSTART;TZID=UTC:20211215T080000
DTEND;TZID=UTC:20211222T170000
DTSTAMP:20260419T142651
CREATED:20211221T083021Z
LAST-MODIFIED:20211221T083021Z
UID:57187-1639555200-1640192400@pakistanclubbh.com
SUMMARY:National Day 2022
DESCRIPTION:
URL:https://pakistanclubbh.com/event/national-day-2022/
LOCATION:Pakistan Club Bahrain\, Manama\, Bahrain
ATTACH;FMTTYPE=image/jpeg:https://pakistanclubbh.com/wp-content/uploads/2021/12/Bahrain-640x514-1.jpg
ORGANIZER;CN="Pakistan%20Club":MAILTO:email@domain.com
END:VEVENT
END:VCALENDAR